Package: UPDhmm Version: 1.5.1 Command: /home/biocbuild/R/R/bin/R CMD check --install=check:UPDhmm.install-out.txt --library=/home/biocbuild/R/R/site-library --no-vignettes --timings UPDhmm_1.5.1.tar.gz StartedAt: 2025-10-17 14:48:39 -0000 (Fri, 17 Oct 2025) EndedAt: 2025-10-17 14:50:22 -0000 (Fri, 17 Oct 2025) EllapsedTime: 103.1 seconds RetCode: 0 Status: OK CheckDir: UPDhmm.Rcheck Warnings: 0