Package: UMI4Cats Version: 1.19.1 Command: F:\biocbuild\bbs-3.22-bioc\R\bin\R.exe CMD INSTALL UMI4Cats StartedAt: 2025-08-14 16:49:00 -0400 (Thu, 14 Aug 2025) EndedAt: 2025-08-14 16:50:07 -0400 (Thu, 14 Aug 2025) EllapsedTime: 66.8 seconds RetCode: 0 Status: OK