Package: UMI4Cats Version: 1.19.1 Command: rm -rf UMI4Cats.buildbin-libdir && mkdir UMI4Cats.buildbin-libdir && F:\biocbuild\bbs-3.22-bioc\R\bin\R.exe CMD INSTALL --build --library=UMI4Cats.buildbin-libdir UMI4Cats_1.19.1.tar.gz StartedAt: 2025-08-15 11:33:35 -0400 (Fri, 15 Aug 2025) EndedAt: 2025-08-15 11:34:49 -0400 (Fri, 15 Aug 2025) EllapsedTime: 74.6 seconds RetCode: 0 Status: OK PackageFile: UMI4Cats_1.19.1.zip PackageFileSize: 2.963 MiB