Package: UMI4Cats Version: 1.20.0 Command: /home/biocbuild/bbs-3.22-bioc/R/bin/R CMD INSTALL UMI4Cats StartedAt: 2025-10-30 15:51:29 -0400 (Thu, 30 Oct 2025) EndedAt: 2025-10-30 15:52:07 -0400 (Thu, 30 Oct 2025) EllapsedTime: 38.4 seconds RetCode: 0 Status: OK