Package: UMI4Cats Version: 1.20.0 Command: rm -rf UMI4Cats.buildbin-libdir && mkdir UMI4Cats.buildbin-libdir && /Users/biocbuild/BBS/utils/build-universal.sh UMI4Cats_1.20.0.tar.gz /Library/Frameworks/R.framework/Resources/bin/R UMI4Cats.buildbin-libdir StartedAt: 2025-11-01 02:03:40 -0400 (Sat, 01 Nov 2025) EndedAt: 2025-11-01 02:04:38 -0400 (Sat, 01 Nov 2025) EllapsedTime: 58.4 seconds RetCode: 0 Status: OK PackageFile: UMI4Cats_1.20.0.tgz PackageFileSize: 3.372 MiB