Package: UMI4Cats Version: 1.20.0 Command: /Library/Frameworks/R.framework/Resources/bin/R CMD check --install=check:UMI4Cats.install-out.txt --library=/Library/Frameworks/R.framework/Resources/library --no-vignettes --timings UMI4Cats_1.20.0.tar.gz StartedAt: 2025-10-31 22:42:48 -0400 (Fri, 31 Oct 2025) EndedAt: 2025-10-31 22:45:03 -0400 (Fri, 31 Oct 2025) EllapsedTime: 134.7 seconds RetCode: 0 Status: OK CheckDir: UMI4Cats.Rcheck Warnings: 0