Package: UCell Version: 2.13.3 Command: /home/biocbuild/R/R/bin/R CMD INSTALL UCell StartedAt: 2025-10-23 20:38:45 -0000 (Thu, 23 Oct 2025) EndedAt: 2025-10-23 20:39:14 -0000 (Thu, 23 Oct 2025) EllapsedTime: 29.2 seconds RetCode: 0 Status: OK