Package: UCell Version: 2.13.1 Command: rm -rf UCell.buildbin-libdir && mkdir UCell.buildbin-libdir && F:\biocbuild\bbs-3.22-bioc\R\bin\R.exe CMD INSTALL --build --library=UCell.buildbin-libdir UCell_2.13.1.tar.gz StartedAt: 2025-08-15 11:33:26 -0400 (Fri, 15 Aug 2025) EndedAt: 2025-08-15 11:33:59 -0400 (Fri, 15 Aug 2025) EllapsedTime: 32.3 seconds RetCode: 0 Status: OK PackageFile: UCell_2.13.1.zip PackageFileSize: 1.418 MiB