Package: UCSC.utils Version: 1.5.0 Command: /home/biocbuild/R/R/bin/R CMD INSTALL UCSC.utils StartedAt: 2025-10-20 20:24:19 -0000 (Mon, 20 Oct 2025) EndedAt: 2025-10-20 20:24:25 -0000 (Mon, 20 Oct 2025) EllapsedTime: 5.9 seconds RetCode: 0 Status: OK