Package: UCSC.utils Version: 1.5.0 Command: /home/biocbuild/R/R/bin/R CMD check --install=check:UCSC.utils.install-out.txt --library=/home/biocbuild/R/R/site-library --no-vignettes --timings UCSC.utils_1.5.0.tar.gz StartedAt: 2025-10-17 14:47:19 -0000 (Fri, 17 Oct 2025) EndedAt: 2025-10-17 14:48:47 -0000 (Fri, 17 Oct 2025) EllapsedTime: 87.1 seconds RetCode: 0 Status: OK CheckDir: UCSC.utils.Rcheck Warnings: 0