Package: UCSC.utils Version: 1.5.0 Command: /home/biocbuild/R/R/bin/R CMD build --keep-empty-dirs --no-resave-data UCSC.utils StartedAt: 2025-10-17 05:26:00 -0000 (Fri, 17 Oct 2025) EndedAt: 2025-10-17 05:26:22 -0000 (Fri, 17 Oct 2025) EllapsedTime: 22.0 seconds RetCode: 0 Status: OK PackageFile: UCSC.utils_1.5.0.tar.gz PackageFileSize: 256 KiB