Package: UCSC.utils Version: 1.5.0 Command: /home/biocbuild/bbs-3.22-bioc/R/bin/R CMD check --install=check:UCSC.utils.install-out.txt --library=/home/biocbuild/bbs-3.22-bioc/R/site-library --timings UCSC.utils_1.5.0.tar.gz StartedAt: 2025-10-20 05:59:42 -0400 (Mon, 20 Oct 2025) EndedAt: 2025-10-20 06:00:47 -0400 (Mon, 20 Oct 2025) EllapsedTime: 65.0 seconds RetCode: 0 Status: OK CheckDir: UCSC.utils.Rcheck Warnings: 0