Package: UCSC.utils Version: 1.5.0 Command: /Library/Frameworks/R.framework/Resources/bin/R CMD build --keep-empty-dirs --no-resave-data UCSC.utils StartedAt: 2025-10-19 19:57:41 -0400 (Sun, 19 Oct 2025) EndedAt: 2025-10-19 19:58:12 -0400 (Sun, 19 Oct 2025) EllapsedTime: 30.3 seconds RetCode: 0 Status: OK PackageFile: UCSC.utils_1.5.0.tar.gz PackageFileSize: 230.5 KiB