Package: UCSC.utils Version: 1.5.0 Command: /Library/Frameworks/R.framework/Resources/bin/R CMD INSTALL UCSC.utils StartedAt: 2025-10-19 15:06:52 -0400 (Sun, 19 Oct 2025) EndedAt: 2025-10-19 15:06:54 -0400 (Sun, 19 Oct 2025) EllapsedTime: 2.6 seconds RetCode: 0 Status: OK