Package: UCSC.utils Version: 1.5.0 Command: /Library/Frameworks/R.framework/Resources/bin/R CMD check --install=check:UCSC.utils.install-out.txt --library=/Library/Frameworks/R.framework/Resources/library --no-vignettes --timings UCSC.utils_1.5.0.tar.gz StartedAt: 2025-10-19 22:35:06 -0400 (Sun, 19 Oct 2025) EndedAt: 2025-10-19 22:35:42 -0400 (Sun, 19 Oct 2025) EllapsedTime: 36.5 seconds RetCode: 0 Status: OK CheckDir: UCSC.utils.Rcheck Warnings: 0