Package: Trendy Version: 1.31.0 Command: /home/biocbuild/R/R/bin/R CMD INSTALL Trendy StartedAt: 2025-10-20 21:18:49 -0000 (Mon, 20 Oct 2025) EndedAt: 2025-10-20 21:19:20 -0000 (Mon, 20 Oct 2025) EllapsedTime: 31.0 seconds RetCode: 0 Status: OK