Package: Trendy Version: 1.31.0 Command: /home/biocbuild/R/R/bin/R CMD build --keep-empty-dirs --no-resave-data Trendy StartedAt: 2025-10-21 03:51:42 -0000 (Tue, 21 Oct 2025) EndedAt: 2025-10-21 03:53:11 -0000 (Tue, 21 Oct 2025) EllapsedTime: 88.0 seconds RetCode: 0 Status: OK PackageFile: Trendy_1.31.0.tar.gz PackageFileSize: 1.071 MiB