Package: Trendy Version: 1.31.0 Command: F:\biocbuild\bbs-3.22-bioc\R\bin\R.exe CMD check --no-multiarch --install=check:Trendy.install-out.txt --library=F:\biocbuild\bbs-3.22-bioc\R\library --no-vignettes --timings Trendy_1.31.0.tar.gz StartedAt: 2025-08-15 08:58:19 -0400 (Fri, 15 Aug 2025) EndedAt: 2025-08-15 09:01:48 -0400 (Fri, 15 Aug 2025) EllapsedTime: 208.9 seconds RetCode: 0 Status: OK CheckDir: Trendy.Rcheck Warnings: 0