Package: Trendy Version: 1.31.0 Command: chmod a+r Trendy -R && F:\biocbuild\bbs-3.22-bioc\R\bin\R.exe CMD build --keep-empty-dirs --no-resave-data Trendy StartedAt: 2025-08-14 23:51:24 -0400 (Thu, 14 Aug 2025) EndedAt: 2025-08-14 23:53:57 -0400 (Thu, 14 Aug 2025) EllapsedTime: 153.3 seconds RetCode: 0 Status: OK PackageFile: Trendy_1.31.0.tar.gz PackageFileSize: 1.087 MiB