Package: Trendy Version: 1.31.0 Command: /home/biocbuild/bbs-3.22-bioc/R/bin/R CMD INSTALL Trendy StartedAt: 2025-10-20 15:52:28 -0400 (Mon, 20 Oct 2025) EndedAt: 2025-10-20 15:52:52 -0400 (Mon, 20 Oct 2025) EllapsedTime: 23.3 seconds RetCode: 0 Status: OK