Package: Trendy Version: 1.31.0 Command: /home/biocbuild/bbs-3.22-bioc/R/bin/R CMD check --install=check:Trendy.install-out.txt --library=/home/biocbuild/bbs-3.22-bioc/R/site-library --timings Trendy_1.31.0.tar.gz StartedAt: 2025-10-21 05:46:51 -0400 (Tue, 21 Oct 2025) EndedAt: 2025-10-21 05:50:18 -0400 (Tue, 21 Oct 2025) EllapsedTime: 207.1 seconds RetCode: 0 Status: OK CheckDir: Trendy.Rcheck Warnings: 0