Package: Trendy Version: 1.31.0 Command: /Library/Frameworks/R.framework/Resources/bin/R CMD INSTALL Trendy StartedAt: 2025-10-23 15:46:32 -0400 (Thu, 23 Oct 2025) EndedAt: 2025-10-23 15:47:05 -0400 (Thu, 23 Oct 2025) EllapsedTime: 33.0 seconds RetCode: 0 Status: OK