Package: Trendy Version: 1.31.0 Command: /Library/Frameworks/R.framework/Resources/bin/R CMD INSTALL Trendy StartedAt: 2025-10-23 15:28:36 -0400 (Thu, 23 Oct 2025) EndedAt: 2025-10-23 15:28:46 -0400 (Thu, 23 Oct 2025) EllapsedTime: 9.9 seconds RetCode: 0 Status: OK