Package: Trendy Version: 1.31.0 Command: /Library/Frameworks/R.framework/Resources/bin/R CMD check --install=check:Trendy.install-out.txt --library=/Library/Frameworks/R.framework/Resources/library --no-vignettes --timings Trendy_1.31.0.tar.gz StartedAt: 2025-10-24 22:36:07 -0400 (Fri, 24 Oct 2025) EndedAt: 2025-10-24 22:37:14 -0400 (Fri, 24 Oct 2025) EllapsedTime: 66.8 seconds RetCode: 0 Status: OK CheckDir: Trendy.Rcheck Warnings: 0