Package: TreeSummarizedExperiment Version: 2.18.0 Command: /Library/Frameworks/R.framework/Resources/bin/R CMD INSTALL TreeSummarizedExperiment StartedAt: 2025-11-03 15:30:09 -0500 (Mon, 03 Nov 2025) EndedAt: 2025-11-03 15:30:52 -0500 (Mon, 03 Nov 2025) EllapsedTime: 42.6 seconds RetCode: 0 Status: OK