Package: TreeSummarizedExperiment Version: 2.18.0 Command: /Library/Frameworks/R.framework/Resources/bin/R CMD check --install=check:TreeSummarizedExperiment.install-out.txt --library=/Library/Frameworks/R.framework/Resources/library --no-vignettes --timings TreeSummarizedExperiment_2.18.0.tar.gz StartedAt: 2025-11-04 00:56:02 -0500 (Tue, 04 Nov 2025) EndedAt: 2025-11-04 01:03:01 -0500 (Tue, 04 Nov 2025) EllapsedTime: 419.9 seconds RetCode: 0 Status: OK CheckDir: TreeSummarizedExperiment.Rcheck Warnings: 0