Package: TreeSummarizedExperiment Version: 2.18.0 Command: /Library/Frameworks/R.framework/Resources/bin/R CMD build --keep-empty-dirs --no-resave-data TreeSummarizedExperiment StartedAt: 2025-11-03 19:08:43 -0500 (Mon, 03 Nov 2025) EndedAt: 2025-11-03 19:09:53 -0500 (Mon, 03 Nov 2025) EllapsedTime: 70.8 seconds RetCode: 0 Status: OK PackageFile: TreeSummarizedExperiment_2.18.0.tar.gz PackageFileSize: 1.103 MiB