Package: TrajectoryUtils Version: 1.18.0 Command: /Library/Frameworks/R.framework/Resources/bin/R CMD build --keep-empty-dirs --no-resave-data TrajectoryUtils StartedAt: 2025-11-10 18:02:16 -0500 (Mon, 10 Nov 2025) EndedAt: 2025-11-10 18:02:31 -0500 (Mon, 10 Nov 2025) EllapsedTime: 15.2 seconds RetCode: 0 Status: OK PackageFile: TrajectoryUtils_1.18.0.tar.gz PackageFileSize: 339.1 KiB