Package: TrajectoryUtils Version: 1.18.0 Command: rm -rf TrajectoryUtils.buildbin-libdir && mkdir TrajectoryUtils.buildbin-libdir && /Users/biocbuild/BBS/utils/build-universal.sh TrajectoryUtils_1.18.0.tar.gz /Library/Frameworks/R.framework/Resources/bin/R TrajectoryUtils.buildbin-libdir StartedAt: 2025-11-10 23:39:57 -0500 (Mon, 10 Nov 2025) EndedAt: 2025-11-10 23:40:08 -0500 (Mon, 10 Nov 2025) EllapsedTime: 11.2 seconds RetCode: 0 Status: OK PackageFile: TrajectoryUtils_1.18.0.tgz PackageFileSize: 568.9 KiB