Package: TrIdent Version: 1.1.5 Command: /Library/Frameworks/R.framework/Resources/bin/R CMD INSTALL TrIdent StartedAt: 2025-10-23 15:05:50 -0400 (Thu, 23 Oct 2025) EndedAt: 2025-10-23 15:05:59 -0400 (Thu, 23 Oct 2025) EllapsedTime: 8.8 seconds RetCode: 0 Status: OK