Package: TrIdent Version: 1.1.5 Command: /Library/Frameworks/R.framework/Resources/bin/R CMD build --keep-empty-dirs --no-resave-data TrIdent StartedAt: 2025-10-24 18:02:24 -0400 (Fri, 24 Oct 2025) EndedAt: 2025-10-24 18:02:45 -0400 (Fri, 24 Oct 2025) EllapsedTime: 21.2 seconds RetCode: 0 Status: OK PackageFile: TrIdent_1.1.5.tar.gz PackageFileSize: 1.758 MiB