Package: TrIdent Version: 1.1.5 Command: rm -rf TrIdent.buildbin-libdir && mkdir TrIdent.buildbin-libdir && /Users/biocbuild/BBS/utils/build-universal.sh TrIdent_1.1.5.tar.gz /Library/Frameworks/R.framework/Resources/bin/R TrIdent.buildbin-libdir StartedAt: 2025-10-23 23:30:40 -0400 (Thu, 23 Oct 2025) EndedAt: 2025-10-23 23:30:45 -0400 (Thu, 23 Oct 2025) EllapsedTime: 5.1 seconds RetCode: 0 Status: OK PackageFile: TrIdent_1.1.5.tgz PackageFileSize: 3.201 MiB