Package: ToxicoGx Version: 2.13.0 Command: /Library/Frameworks/R.framework/Resources/bin/R CMD INSTALL ToxicoGx StartedAt: 2025-10-24 15:32:19 -0400 (Fri, 24 Oct 2025) EndedAt: 2025-10-24 15:33:10 -0400 (Fri, 24 Oct 2025) EllapsedTime: 50.7 seconds RetCode: 0 Status: OK