Package: ToxicoGx Version: 2.13.0 Command: /Library/Frameworks/R.framework/Resources/bin/R CMD build --keep-empty-dirs --no-resave-data ToxicoGx StartedAt: 2025-10-24 19:05:54 -0400 (Fri, 24 Oct 2025) EndedAt: 2025-10-24 19:06:56 -0400 (Fri, 24 Oct 2025) EllapsedTime: 61.7 seconds RetCode: 0 Status: OK PackageFile: ToxicoGx_2.13.0.tar.gz PackageFileSize: 3.937 MiB