Package: ToxicoGx Version: 2.13.0 Command: rm -rf ToxicoGx.buildbin-libdir && mkdir ToxicoGx.buildbin-libdir && /Users/biocbuild/BBS/utils/build-universal.sh ToxicoGx_2.13.0.tar.gz /Library/Frameworks/R.framework/Resources/bin/R ToxicoGx.buildbin-libdir StartedAt: 2025-10-24 23:22:55 -0400 (Fri, 24 Oct 2025) EndedAt: 2025-10-24 23:23:12 -0400 (Fri, 24 Oct 2025) EllapsedTime: 16.4 seconds RetCode: 0 Status: OK PackageFile: ToxicoGx_2.13.0.tgz PackageFileSize: 4.416 MiB