Package: TnT Version: 1.31.0 Command: F:\biocbuild\bbs-3.22-bioc\R\bin\R.exe CMD check --no-multiarch --install=check:TnT.install-out.txt --library=F:\biocbuild\bbs-3.22-bioc\R\library --no-vignettes --timings TnT_1.31.0.tar.gz StartedAt: 2025-08-15 08:51:20 -0400 (Fri, 15 Aug 2025) EndedAt: 2025-08-15 08:53:26 -0400 (Fri, 15 Aug 2025) EllapsedTime: 126.1 seconds RetCode: 0 Status: OK CheckDir: TnT.Rcheck Warnings: 0