Package: TnT Version: 1.31.0 Command: chmod a+r TnT -R && F:\biocbuild\bbs-3.22-bioc\R\bin\R.exe CMD build --keep-empty-dirs --no-resave-data TnT StartedAt: 2025-08-14 23:47:31 -0400 (Thu, 14 Aug 2025) EndedAt: 2025-08-14 23:48:10 -0400 (Thu, 14 Aug 2025) EllapsedTime: 39.6 seconds RetCode: 0 Status: OK PackageFile: TnT_1.31.0.tar.gz PackageFileSize: 230.9 KiB