Package: TnT Version: 1.32.0 Command: /Library/Frameworks/R.framework/Resources/bin/R CMD INSTALL TnT StartedAt: 2025-11-10 15:10:42 -0500 (Mon, 10 Nov 2025) EndedAt: 2025-11-10 15:10:48 -0500 (Mon, 10 Nov 2025) EllapsedTime: 5.5 seconds RetCode: 0 Status: OK