Package: TnT Version: 1.32.0 Command: /Library/Frameworks/R.framework/Resources/bin/R CMD build --keep-empty-dirs --no-resave-data TnT StartedAt: 2025-11-10 18:01:01 -0500 (Mon, 10 Nov 2025) EndedAt: 2025-11-10 18:01:10 -0500 (Mon, 10 Nov 2025) EllapsedTime: 9.1 seconds RetCode: 0 Status: OK PackageFile: TnT_1.32.0.tar.gz PackageFileSize: 230.4 KiB