Package: TnT Version: 1.32.0 Command: rm -rf TnT.buildbin-libdir && mkdir TnT.buildbin-libdir && /Users/biocbuild/BBS/utils/build-universal.sh TnT_1.32.0.tar.gz /Library/Frameworks/R.framework/Resources/bin/R TnT.buildbin-libdir StartedAt: 2025-11-10 23:39:46 -0500 (Mon, 10 Nov 2025) EndedAt: 2025-11-10 23:39:53 -0500 (Mon, 10 Nov 2025) EllapsedTime: 6.2 seconds RetCode: 0 Status: OK PackageFile: TnT_1.32.0.tgz PackageFileSize: 530.8 KiB