Package: TissueEnrich Version: 1.29.0 Command: /home/biocbuild/R/R/bin/R CMD INSTALL TissueEnrich StartedAt: 2025-10-16 21:46:10 -0000 (Thu, 16 Oct 2025) EndedAt: 2025-10-16 21:46:51 -0000 (Thu, 16 Oct 2025) EllapsedTime: 40.6 seconds RetCode: 0 Status: OK