Package: TissueEnrich Version: 1.29.0 Command: chmod a+r TissueEnrich -R && F:\biocbuild\bbs-3.22-bioc\R\bin\R.exe CMD build --keep-empty-dirs --no-resave-data TissueEnrich StartedAt: 2025-08-14 23:46:59 -0400 (Thu, 14 Aug 2025) EndedAt: 2025-08-14 23:48:00 -0400 (Thu, 14 Aug 2025) EllapsedTime: 61.2 seconds RetCode: 0 Status: OK PackageFile: TissueEnrich_1.29.0.tar.gz PackageFileSize: 3.338 MiB