Package: TissueEnrich Version: 1.29.0 Command: /Library/Frameworks/R.framework/Resources/bin/R CMD INSTALL TissueEnrich StartedAt: 2025-10-19 15:31:19 -0400 (Sun, 19 Oct 2025) EndedAt: 2025-10-19 15:32:01 -0400 (Sun, 19 Oct 2025) EllapsedTime: 41.7 seconds RetCode: 0 Status: OK