Package: TissueEnrich Version: 1.29.0 Command: /Library/Frameworks/R.framework/Resources/bin/R CMD check --install=check:TissueEnrich.install-out.txt --library=/Library/Frameworks/R.framework/Resources/library --no-vignettes --timings TissueEnrich_1.29.0.tar.gz StartedAt: 2025-10-20 02:18:40 -0400 (Mon, 20 Oct 2025) EndedAt: 2025-10-20 02:22:49 -0400 (Mon, 20 Oct 2025) EllapsedTime: 249.2 seconds RetCode: 0 Status: OK CheckDir: TissueEnrich.Rcheck Warnings: 0