Package: TissueEnrich Version: 1.29.0 Command: rm -rf TissueEnrich.buildbin-libdir && mkdir TissueEnrich.buildbin-libdir && /Users/biocbuild/BBS/utils/build-universal.sh TissueEnrich_1.29.0.tar.gz /Library/Frameworks/R.framework/Resources/bin/R TissueEnrich.buildbin-libdir StartedAt: 2025-10-20 03:38:32 -0400 (Mon, 20 Oct 2025) EndedAt: 2025-10-20 03:39:19 -0400 (Mon, 20 Oct 2025) EllapsedTime: 46.5 seconds RetCode: 0 Status: OK PackageFile: TissueEnrich_1.29.0.tgz PackageFileSize: 3.628 MiB