Package: TargetSearch Version: 2.11.1 Command: /home/biocbuild/bbs-3.22-bioc/R/bin/R CMD build --keep-empty-dirs --no-resave-data --md5 TargetSearch StartedAt: 2025-10-20 20:23:06 -0400 (Mon, 20 Oct 2025) EndedAt: 2025-10-20 20:23:32 -0400 (Mon, 20 Oct 2025) EllapsedTime: 26.0 seconds RetCode: 0 Status: OK PackageFile: TargetSearch_2.11.1.tar.gz PackageFileSize: 728.3 KiB