Package: TargetSearch Version: 2.11.1 Command: /Library/Frameworks/R.framework/Resources/bin/R CMD check --install=check:TargetSearch.install-out.txt --library=/Library/Frameworks/R.framework/Resources/library --no-vignettes --timings TargetSearch_2.11.1.tar.gz StartedAt: 2025-10-16 22:25:50 -0400 (Thu, 16 Oct 2025) EndedAt: 2025-10-16 22:26:25 -0400 (Thu, 16 Oct 2025) EllapsedTime: 35.5 seconds RetCode: 0 Status: OK CheckDir: TargetSearch.Rcheck Warnings: 0