Package: TargetScore Version: 1.48.0 Command: /home/biocbuild/bbs-3.22-bioc/R/bin/R CMD INSTALL TargetScore StartedAt: 2025-11-16 15:06:01 -0500 (Sun, 16 Nov 2025) EndedAt: 2025-11-16 15:06:09 -0500 (Sun, 16 Nov 2025) EllapsedTime: 8.6 seconds RetCode: 0 Status: OK