Package: TargetDecoy Version: 1.15.0 Command: /home/biocbuild/R/R/bin/R CMD INSTALL TargetDecoy StartedAt: 2025-10-16 21:37:22 -0000 (Thu, 16 Oct 2025) EndedAt: 2025-10-16 21:37:34 -0000 (Thu, 16 Oct 2025) EllapsedTime: 12.6 seconds RetCode: 0 Status: OK