Package: TargetDecoy Version: 1.15.0 Command: /home/biocbuild/R/R/bin/R CMD check --install=check:TargetDecoy.install-out.txt --library=/home/biocbuild/R/R/site-library --no-vignettes --timings TargetDecoy_1.15.0.tar.gz StartedAt: 2025-10-17 14:22:08 -0000 (Fri, 17 Oct 2025) EndedAt: 2025-10-17 14:24:04 -0000 (Fri, 17 Oct 2025) EllapsedTime: 115.2 seconds RetCode: 0 Status: OK CheckDir: TargetDecoy.Rcheck Warnings: 0